BEGIN:VCALENDAR
VERSION:2.0
PRODID:-//Dorsal Zero - ECPv6.15.20//NONSGML v1.0//EN
CALSCALE:GREGORIAN
METHOD:PUBLISH
X-ORIGINAL-URL:https://dorsalzero.com
X-WR-CALDESC:Eventos para Dorsal Zero
REFRESH-INTERVAL;VALUE=DURATION:PT1H
X-Robots-Tag:noindex
X-PUBLISHED-TTL:PT1H
BEGIN:VTIMEZONE
TZID:UTC
BEGIN:STANDARD
TZOFFSETFROM:+0000
TZOFFSETTO:+0000
TZNAME:UTC
DTSTART:20240101T000000
END:STANDARD
END:VTIMEZONE
BEGIN:VEVENT
DTSTART;VALUE=DATE:20250525
DTEND;VALUE=DATE:20250526
DTSTAMP:20260422T213517
CREATED:20250331T212734Z
LAST-MODIFIED:20250331T212734Z
UID:466-1748131200-1748217599@dorsalzero.com
SUMMARY:XXXI EDICION DE LA FERIA SAN ISIDRO CASTALLA
DESCRIPTION:Ya estamos en marcha con la concentración motera de la XXXI EDICION DE LA FERIA SAN ISIDRO CASTALLA\, no te lo puedes perder!!!!!!
URL:https://dorsalzero.com/event/xxxi-edicion-de-la-feria-san-isidro-castalla/
CATEGORIES:Alicante,Concentración
ATTACH;FMTTYPE=image/jpeg:https://dorsalzero.com/wp-content/uploads/2025/03/1c1229fc-a3d6-412f-9486-0a2e08b4eeb7.jpg
END:VEVENT
END:VCALENDAR